BEGIN:VCALENDAR
VERSION:2.0
PRODID:-//Hillside Community Church - ECPv6.15.20//NONSGML v1.0//EN
CALSCALE:GREGORIAN
METHOD:PUBLISH
X-ORIGINAL-URL:https://www.hillsidemedford.org
X-WR-CALDESC:Events for Hillside Community Church
REFRESH-INTERVAL;VALUE=DURATION:PT1H
X-Robots-Tag:noindex
X-PUBLISHED-TTL:PT1H
BEGIN:VTIMEZONE
TZID:America/New_York
BEGIN:DAYLIGHT
TZOFFSETFROM:-0500
TZOFFSETTO:-0400
TZNAME:EDT
DTSTART:20240310T070000
END:DAYLIGHT
BEGIN:STANDARD
TZOFFSETFROM:-0400
TZOFFSETTO:-0500
TZNAME:EST
DTSTART:20241103T060000
END:STANDARD
BEGIN:DAYLIGHT
TZOFFSETFROM:-0500
TZOFFSETTO:-0400
TZNAME:EDT
DTSTART:20250309T070000
END:DAYLIGHT
BEGIN:STANDARD
TZOFFSETFROM:-0400
TZOFFSETTO:-0500
TZNAME:EST
DTSTART:20251102T060000
END:STANDARD
BEGIN:DAYLIGHT
TZOFFSETFROM:-0500
TZOFFSETTO:-0400
TZNAME:EDT
DTSTART:20260308T070000
END:DAYLIGHT
BEGIN:STANDARD
TZOFFSETFROM:-0400
TZOFFSETTO:-0500
TZNAME:EST
DTSTART:20261101T060000
END:STANDARD
END:VTIMEZONE
BEGIN:VEVENT
DTSTART;TZID=America/New_York:20250914T113000
DTEND;TZID=America/New_York:20250914T130000
DTSTAMP:20260421T071341
CREATED:20250802T142319Z
LAST-MODIFIED:20260417T094549Z
UID:10001581-1757849400-1757854800@www.hillsidemedford.org
SUMMARY:Coffee & Connection
DESCRIPTION:Grab a Bite. Meet Some People. \nAfter worship\, hang out for a low-key coffee hour — a chance to share some snacks\, sip something warm\, and have real conversation with folks you might not have met yet. No pressure\, no small talk required (unless you’re into that). \nWant to help make it happen? Sign up here to bring snacks\, make coffee\, or help with cleanup. It’s a simple way to pitch in — and a great excuse to connect.
URL:https://www.hillsidemedford.org/event/coffee-connection/2025-09-14/
LOCATION:Hillside Community Church\, 144 North Street\, Medford\, MA\, 02155\, United States
CATEGORIES:Community
ATTACH;FMTTYPE=image/webp:https://www.hillsidemedford.org/wp-content/uploads/2025/04/484329562_998477462376677_2513367873697334185_n.webp
GEO:42.4111478;-71.1274596
X-APPLE-STRUCTURED-LOCATION;VALUE=URI;X-ADDRESS=Hillside Community Church 144 North Street Medford MA 02155 United States;X-APPLE-RADIUS=500;X-TITLE=144 North Street:geo:-71.1274596,42.4111478
END:VEVENT
BEGIN:VEVENT
DTSTART;TZID=America/New_York:20250914T113000
DTEND;TZID=America/New_York:20250914T130000
DTSTAMP:20260421T071341
CREATED:20250910T022818Z
LAST-MODIFIED:20250910T023406Z
UID:10001025-1757849400-1757854800@www.hillsidemedford.org
SUMMARY:Community Meal: BBQ
DESCRIPTION:We’re rounding off Rally Sunday with a backyard BBQ feast on the church patio! After worship\, head out back where tables will be set and the spread will be waiting. Bring your BBQ best—ribs\, brisket\, pulled pork\, grilled veggies—or one of the classic sides that make a cookout complete: coleslaw\, baked beans\, mac and cheese\, potato salad\, cornbread\, you name it. Just make sure your dish is ready to serve so we can all dig in together. \nAnd vegetarians\, we haven’t forgotten you—grilled corn\, smoky tofu\, or that mysterious-but-delicious quinoa salad are all welcome additions to the table. \nIt’s going to be a lighthearted\, laughter-filled afternoon of food and fellowship as we kick off the new church year. Bring your favorite dish\, grab a seat\, and let’s celebrate Rally Sunday with a feast on the patio! \nLet us know what you can bring:\nSIGN UP FOR THE POTLUCK
URL:https://www.hillsidemedford.org/event/coffee-connection-2/
LOCATION:Hillside Community Church\, 144 North Street\, Medford\, MA\, 02155\, United States
CATEGORIES:Community
ATTACH;FMTTYPE=image/jpeg:https://www.hillsidemedford.org/wp-content/uploads/2024/09/DSCF1699.jpg
GEO:42.4111478;-71.1274596
X-APPLE-STRUCTURED-LOCATION;VALUE=URI;X-ADDRESS=Hillside Community Church 144 North Street Medford MA 02155 United States;X-APPLE-RADIUS=500;X-TITLE=144 North Street:geo:-71.1274596,42.4111478
END:VEVENT
END:VCALENDAR